BEGIN:VCALENDAR
METHOD:PUBLISH
VERSION:2.0
CALSCALE:GREGORIAN
PRODID:-//NONSGML Sandhills Development\, LLC//NONSGML Sugar Calendar Fe
 eds v3.5.0//EN
X-WR-CALNAME:12:00 p.m. CT - Understanding Your CGM
X-WR-CALDESC:Level2
X-WR-TIMEZONE:UTC
BEGIN:VTIMEZONE
TZID:UTC
BEGIN:STANDARD
TZOFFSETFROM:+0000
TZOFFSETTO:+0000
DTSTART:20250711T000000
TZNAME:UTC
END:STANDARD
END:VTIMEZONE
BEGIN:VTIMEZONE
TZID:America/Chicago
BEGIN:STANDARD
TZOFFSETFROM:-0500
TZOFFSETTO:-0600
DTSTART:20251102T070000
TZNAME:CST
END:STANDARD
END:VTIMEZONE
BEGIN:VEVENT
SUMMARY:12:00 p.m. CT - Understanding Your CGM
DESCRIPTION:Led by Coach Susan\n\nCurious about your CGM but not sure wh
 ere to start? Join Susan\, a Board Certified Health and Wellness Coach\,
  for an informative session designed just for you! Whether you’re bran
 d new to CGMs or just want a clearer picture\, this session will help yo
 u feel more confident and in control. Let’s explore together!\n\nRegis
 ter
URL;VALUE=URI:https://mylevel2.com/events/understanding-your-cgm-01-09/
UID:urn:uuid:ab4de5c8-397e-416b-8262-63b5fc761137
STATUS:CONFIRMED
ORGANIZER:
DTSTAMP:20260419T192339Z
DTSTART;TZID=America/Chicago:20260109T120000
DTEND;TZID=America/Chicago:20260109T123000
END:VEVENT
END:VCALENDAR