BEGIN:VCALENDAR
METHOD:PUBLISH
VERSION:2.0
CALSCALE:GREGORIAN
PRODID:-//NONSGML Sandhills Development\, LLC//NONSGML Sugar Calendar Fe
 eds v3.5.0//EN
X-WR-CALNAME:5:30 p.m. CT - Understanding Your CGM
X-WR-CALDESC:Level2
X-WR-TIMEZONE:UTC
BEGIN:VTIMEZONE
TZID:UTC
BEGIN:STANDARD
TZOFFSETFROM:+0000
TZOFFSETTO:+0000
DTSTART:20250709T053000
TZNAME:UTC
END:STANDARD
END:VTIMEZONE
BEGIN:VTIMEZONE
TZID:America/Chicago
BEGIN:STANDARD
TZOFFSETFROM:-0500
TZOFFSETTO:-0600
DTSTART:20251102T070000
TZNAME:CST
END:STANDARD
END:VTIMEZONE
BEGIN:VEVENT
SUMMARY:5:30 p.m. CT - Understanding Your CGM
DESCRIPTION:Led by Coach Jeanette\n\nCurious about your CGM but not sure
  where to start? Join Jeanette\, a Board Certified Health and Wellness C
 oach\, for an informative session designed just for you! Whether you’r
 e brand new to CGMs or just want a clearer picture\, this session will h
 elp you feel more confident and in control. Let’s explore together!\n\
 nRegister
URL;VALUE=URI:https://mylevel2.com/events/understanding-your-cgm-01-07/
UID:urn:uuid:ab4de5c8-397e-416b-8262-63b5fc761137
STATUS:CONFIRMED
ORGANIZER:
DTSTAMP:20260419T193604Z
DTSTART;TZID=America/Chicago:20260107T173000
DTEND;TZID=America/Chicago:20260107T180000
END:VEVENT
END:VCALENDAR