BEGIN:VCALENDAR
METHOD:PUBLISH
VERSION:2.0
CALSCALE:GREGORIAN
PRODID:-//NONSGML Sandhills Development\, LLC//NONSGML Sugar Calendar Fe
 eds v3.5.0//EN
X-WR-CALNAME:Stress Management
X-WR-CALDESC:Level2
X-WR-TIMEZONE:UTC
BEGIN:VTIMEZONE
TZID:UTC
BEGIN:STANDARD
TZOFFSETFROM:+0000
TZOFFSETTO:+0000
DTSTART:20230209T000000
TZNAME:UTC
END:STANDARD
END:VTIMEZONE
BEGIN:VTIMEZONE
TZID:America/Chicago
BEGIN:DAYLIGHT
TZOFFSETFROM:-0600
TZOFFSETTO:-0500
DTSTART:20230312T080000
TZNAME:CDT
END:DAYLIGHT
END:VTIMEZONE
BEGIN:VEVENT
SUMMARY:Stress Management
DESCRIPTION:Join Coach Rachel as she takes a deeper dive and explores ho
 w stress impacts blood glucose and what you can do to manage it.\n\nRegi
 ster
URL;VALUE=URI:https://mylevel2.com/events/stress-management-4/
UID:urn:uuid:b8519824-7b3c-42c4-856d-4669ae6ff3b1
STATUS:CONFIRMED
ORGANIZER:
DTSTAMP:20260419T195535Z
DTSTART;TZID=America/Chicago:20230810T120000
DTEND;TZID=America/Chicago:20230810T120000
END:VEVENT
END:VCALENDAR