BEGIN:VCALENDAR
METHOD:PUBLISH
VERSION:2.0
CALSCALE:GREGORIAN
PRODID:-//NONSGML Sandhills Development\, LLC//NONSGML Sugar Calendar Fe
 eds v3.5.0//EN
X-WR-CALNAME:Stress Management
X-WR-CALDESC:Level2
X-WR-TIMEZONE:UTC
BEGIN:VTIMEZONE
TZID:UTC
BEGIN:STANDARD
TZOFFSETFROM:+0000
TZOFFSETTO:+0000
DTSTART:20230206T060000
TZNAME:UTC
END:STANDARD
END:VTIMEZONE
BEGIN:VTIMEZONE
TZID:America/Chicago
BEGIN:DAYLIGHT
TZOFFSETFROM:-0600
TZOFFSETTO:-0500
DTSTART:20230312T080000
TZNAME:CDT
END:DAYLIGHT
END:VTIMEZONE
BEGIN:VEVENT
SUMMARY:Stress Management
DESCRIPTION:Did you know that it is not about eliminating stressors? It 
 is about reducing the impact of these "stressors" on your glucose\, heal
 th and life. Join Jeanette\, a Board Certified Health and Wellness Coach
 \, who will conduct this important group coaching session.\n\nRegister
URL;VALUE=URI:https://mylevel2.com/events/stress-management-3/
UID:urn:uuid:6a5536d7-8fff-4ad7-806b-2b4cfc5c4cd0
STATUS:CONFIRMED
ORGANIZER:
DTSTAMP:20260419T180754Z
DTSTART;TZID=America/Chicago:20230807T180000
DTEND;TZID=America/Chicago:20230807T180000
END:VEVENT
END:VCALENDAR