BEGIN:VCALENDAR
METHOD:PUBLISH
VERSION:2.0
CALSCALE:GREGORIAN
PRODID:-//NONSGML Sandhills Development\, LLC//NONSGML Sugar Calendar Fe
 eds v3.5.0//EN
X-WR-CALNAME:5:30 p.m. CT - Silent Factors of Glucose: Class 3
X-WR-CALDESC:Level2
X-WR-TIMEZONE:UTC
BEGIN:VTIMEZONE
TZID:UTC
BEGIN:STANDARD
TZOFFSETFROM:+0000
TZOFFSETTO:+0000
DTSTART:20250108T053000
TZNAME:UTC
END:STANDARD
END:VTIMEZONE
BEGIN:VTIMEZONE
TZID:America/Chicago
BEGIN:DAYLIGHT
TZOFFSETFROM:-0600
TZOFFSETTO:-0500
DTSTART:20250309T080000
TZNAME:CDT
END:DAYLIGHT
END:VTIMEZONE
BEGIN:VEVENT
SUMMARY:5:30 p.m. CT - Silent Factors of Glucose: Class 3
DESCRIPTION:Led by Coach Jeanette\n\nClass 3 – Mindful Eating: Join us
  to learn about mindfulness around meals and strategies that can help cr
 eate more awareness around hunger cues and eating habits.\n\nRegister
URL;VALUE=URI:https://mylevel2.com/events/silent-factors-of-glucose-clas
 s-3-7-9/
UID:urn:uuid:ab4de5c8-397e-416b-8262-63b5fc761137
STATUS:CONFIRMED
ORGANIZER:
DTSTAMP:20260420T091515Z
DTSTART;TZID=America/Chicago:20250709T173000
DTEND;TZID=America/Chicago:20250709T180000
END:VEVENT
END:VCALENDAR