BEGIN:VCALENDAR
METHOD:PUBLISH
VERSION:2.0
CALSCALE:GREGORIAN
PRODID:-//NONSGML Sandhills Development\, LLC//NONSGML Sugar Calendar Fe
 eds v3.5.0//EN
X-WR-CALNAME:12:00 p.m. CT - Silent Factors of Glucose: Class 1
X-WR-CALDESC:Level2
X-WR-TIMEZONE:UTC
BEGIN:VTIMEZONE
TZID:UTC
BEGIN:STANDARD
TZOFFSETFROM:+0000
TZOFFSETTO:+0000
DTSTART:20250725T000000
TZNAME:UTC
END:STANDARD
END:VTIMEZONE
BEGIN:VTIMEZONE
TZID:America/Chicago
BEGIN:STANDARD
TZOFFSETFROM:-0500
TZOFFSETTO:-0600
DTSTART:20251102T070000
TZNAME:CST
END:STANDARD
END:VTIMEZONE
BEGIN:VEVENT
SUMMARY:12:00 p.m. CT - Silent Factors of Glucose: Class 1
DESCRIPTION:Led by Coach Susan\n\nClass 1 – Prioritizing Sleep: Did yo
 u know that sleep has a significant impact on overall health and glucose
 ? Come learn about why sleep is important and some strategies for improv
 ing sleep quality.\n\nRegister
URL;VALUE=URI:https://mylevel2.com/events/silent-factors-of-glucose-clas
 s-1-01-23/
UID:urn:uuid:ab4de5c8-397e-416b-8262-63b5fc761137
STATUS:CONFIRMED
ORGANIZER:
DTSTAMP:20260419T162849Z
DTSTART;TZID=America/Chicago:20260123T120000
DTEND;TZID=America/Chicago:20260123T123000
END:VEVENT
END:VCALENDAR