BEGIN:VCALENDAR
METHOD:PUBLISH
VERSION:2.0
CALSCALE:GREGORIAN
PRODID:-//NONSGML Sandhills Development\, LLC//NONSGML Sugar Calendar Fe
 eds v3.5.0//EN
X-WR-CALNAME:Plan and Prep the Level2 Way
X-WR-CALDESC:Level2
X-WR-TIMEZONE:UTC
BEGIN:VTIMEZONE
TZID:UTC
BEGIN:STANDARD
TZOFFSETFROM:+0000
TZOFFSETTO:+0000
DTSTART:20230207T233000
TZNAME:UTC
END:STANDARD
END:VTIMEZONE
BEGIN:VTIMEZONE
TZID:America/Chicago
BEGIN:DAYLIGHT
TZOFFSETFROM:-0600
TZOFFSETTO:-0500
DTSTART:20230312T080000
TZNAME:CDT
END:DAYLIGHT
END:VTIMEZONE
BEGIN:VEVENT
SUMMARY:Plan and Prep the Level2 Way
DESCRIPTION:Learn how to meal plan\, grocery shop and meal prep in this 
 all encompassing class led by Kayla\, one of our Level2 Registered Dieti
 tians!\n\nRegister
URL;VALUE=URI:https://mylevel2.com/events/plan-and-prep-the-level2-way-3
 /
UID:urn:uuid:e0d090f5-9ff9-4e77-8654-f2095f609e0d
STATUS:CONFIRMED
ORGANIZER:
DTSTAMP:20260419T194819Z
DTSTART;TZID=America/Chicago:20230809T113000
DTEND;TZID=America/Chicago:20230809T113000
END:VEVENT
END:VCALENDAR