BEGIN:VCALENDAR
METHOD:PUBLISH
VERSION:2.0
CALSCALE:GREGORIAN
PRODID:-//NONSGML Sandhills Development\, LLC//NONSGML Sugar Calendar Fe
 eds v3.5.0//EN
X-WR-CALNAME:Plan and Prep the Level2 Way
X-WR-CALDESC:Level2
X-WR-TIMEZONE:UTC
BEGIN:VTIMEZONE
TZID:UTC
BEGIN:STANDARD
TZOFFSETFROM:+0000
TZOFFSETTO:+0000
DTSTART:20230124T060000
TZNAME:UTC
END:STANDARD
END:VTIMEZONE
BEGIN:VTIMEZONE
TZID:America/Chicago
BEGIN:DAYLIGHT
TZOFFSETFROM:-0600
TZOFFSETTO:-0500
DTSTART:20230312T080000
TZNAME:CDT
END:DAYLIGHT
END:VTIMEZONE
BEGIN:VEVENT
SUMMARY:Plan and Prep the Level2 Way
DESCRIPTION:Learn how to meal plan\, grocery shop and meal prep in this 
 all encompassing class led by Neha\, one of our Level2 Registered Dietit
 ians!\n\nRegister
URL;VALUE=URI:https://mylevel2.com/events/plan-and-prep-the-level2-way-2
 /
UID:urn:uuid:8de4e0d9-8051-4e9b-9458-92a1b55ca99e
STATUS:CONFIRMED
ORGANIZER:
DTSTAMP:20260419T180722Z
DTSTART;TZID=America/Chicago:20230725T180000
DTEND;TZID=America/Chicago:20230725T180000
END:VEVENT
END:VCALENDAR