BEGIN:VCALENDAR
METHOD:PUBLISH
VERSION:2.0
CALSCALE:GREGORIAN
PRODID:-//NONSGML Sandhills Development\, LLC//NONSGML Sugar Calendar Fe
 eds v3.5.0//EN
X-WR-CALNAME:No Naked Carbs
X-WR-CALDESC:Level2
X-WR-TIMEZONE:UTC
BEGIN:VTIMEZONE
TZID:UTC
BEGIN:STANDARD
TZOFFSETFROM:+0000
TZOFFSETTO:+0000
DTSTART:20230108T233000
TZNAME:UTC
END:STANDARD
END:VTIMEZONE
BEGIN:VTIMEZONE
TZID:America/Chicago
BEGIN:DAYLIGHT
TZOFFSETFROM:-0600
TZOFFSETTO:-0500
DTSTART:20230312T080000
TZNAME:CDT
END:DAYLIGHT
END:VTIMEZONE
BEGIN:VEVENT
SUMMARY:No Naked Carbs
DESCRIPTION:Join Erin\, a Board Certified Health and Wellness Coach as s
 he explores how just a tiny change to the order in which you eat your fo
 od can help to optimize your blood glucose.\n\nRegister
URL;VALUE=URI:https://mylevel2.com/events/no-naked-carbs-4/
UID:urn:uuid:bdf3fe18-d6e6-4eb0-8091-cf351ba5fab3
STATUS:CONFIRMED
ORGANIZER:
DTSTAMP:20260420T104114Z
DTSTART;TZID=America/Chicago:20230710T113000
DTEND;TZID=America/Chicago:20230710T113000
END:VEVENT
END:VCALENDAR