BEGIN:VCALENDAR
METHOD:PUBLISH
VERSION:2.0
CALSCALE:GREGORIAN
PRODID:-//NONSGML Sandhills Development\, LLC//NONSGML Sugar Calendar Fe
 eds v3.5.0//EN
X-WR-CALNAME:Class 9: Mindful Eating with Coach Jeanette
X-WR-CALDESC:Level2
X-WR-TIMEZONE:UTC
BEGIN:VTIMEZONE
TZID:UTC
BEGIN:STANDARD
TZOFFSETFROM:+0000
TZOFFSETTO:+0000
DTSTART:20230918T060000
TZNAME:UTC
END:STANDARD
END:VTIMEZONE
BEGIN:VTIMEZONE
TZID:America/Chicago
BEGIN:STANDARD
TZOFFSETFROM:-0500
TZOFFSETTO:-0600
DTSTART:20231105T070000
TZNAME:CST
END:STANDARD
BEGIN:DAYLIGHT
TZOFFSETFROM:-0600
TZOFFSETTO:-0500
DTSTART:20240310T080000
TZNAME:CDT
END:DAYLIGHT
END:VTIMEZONE
BEGIN:VEVENT
SUMMARY:Class 9: Mindful Eating with Coach Jeanette
DESCRIPTION:Led by Coach Jeanette\n\nIn Class 9 of the Navigating Your G
 lucose: A Framework for Success series\, learn about mindfulness around 
 meals and strategies that can help create more awareness around hunger c
 ues and eating habits.\n\nRegister
URL;VALUE=URI:https://mylevel2.com/events/navigating-your-glucose-a-fram
 ework-for-success-class-9-mindful-eating-with-coach-jeanette/
UID:urn:uuid:9db93c3a-88a3-4b0e-bad9-725057253b8b
STATUS:CONFIRMED
ORGANIZER:
DTSTAMP:20260424T101928Z
DTSTART;TZID=America/Chicago:20240318T180000
DTEND;TZID=America/Chicago:20240318T180000
END:VEVENT
END:VCALENDAR