BEGIN:VCALENDAR
METHOD:PUBLISH
VERSION:2.0
CALSCALE:GREGORIAN
PRODID:-//NONSGML Sandhills Development\, LLC//NONSGML Sugar Calendar Fe
 eds v3.5.0//EN
X-WR-CALNAME:5:30 p.m. CT - Navigating Your Glucose: Class 5
X-WR-CALDESC:Level2
X-WR-TIMEZONE:UTC
BEGIN:VTIMEZONE
TZID:UTC
BEGIN:STANDARD
TZOFFSETFROM:+0000
TZOFFSETTO:+0000
DTSTART:20250403T053000
TZNAME:UTC
END:STANDARD
END:VTIMEZONE
BEGIN:VTIMEZONE
TZID:America/Chicago
BEGIN:DAYLIGHT
TZOFFSETFROM:-0500
TZOFFSETTO:-0500
DTSTART:20250403T053000
TZNAME:CDT
END:DAYLIGHT
END:VTIMEZONE
BEGIN:VEVENT
SUMMARY:5:30 p.m. CT - Navigating Your Glucose: Class 5
DESCRIPTION:Led by Coach Erin\n\nClass 5 – Jump Start Your Exercise: I
 nterested in exercise but don’t know where to begin? Join this class f
 or a view into exercise guidelines and how to take small steps that kick
 -start a long-term exercise routine.\n\nRegister
URL;VALUE=URI:https://mylevel2.com/events/navigating-your-glucose-a-fram
 ework-for-success-class-5-10-2/
UID:urn:uuid:ab4de5c8-397e-416b-8262-63b5fc761137
STATUS:CONFIRMED
ORGANIZER:
DTSTAMP:20260424T153916Z
DTSTART;TZID=America/Chicago:20251002T173000
DTEND;TZID=America/Chicago:20251002T180000
END:VEVENT
END:VCALENDAR