BEGIN:VCALENDAR
METHOD:PUBLISH
VERSION:2.0
CALSCALE:GREGORIAN
PRODID:-//NONSGML Sandhills Development\, LLC//NONSGML Sugar Calendar Fe
 eds v3.5.0//EN
X-WR-CALNAME:Class 3: Principles of Behavior Change with Coach Kelly
X-WR-CALDESC:Level2
X-WR-TIMEZONE:UTC
BEGIN:VTIMEZONE
TZID:UTC
BEGIN:STANDARD
TZOFFSETFROM:+0000
TZOFFSETTO:+0000
DTSTART:20230803T050000
TZNAME:UTC
END:STANDARD
END:VTIMEZONE
BEGIN:VTIMEZONE
TZID:America/Chicago
BEGIN:STANDARD
TZOFFSETFROM:-0500
TZOFFSETTO:-0600
DTSTART:20231105T070000
TZNAME:CST
END:STANDARD
END:VTIMEZONE
BEGIN:VEVENT
SUMMARY:Class 3: Principles of Behavior Change with Coach Kelly
DESCRIPTION:Led by Coach Kelly\n\nIn Class 3 of the Navigating Your Gluc
 ose: A Framework for Success series\, learn to understand what behavior 
 change is and how to be successful with changing your desired behaviors.
 \n\nRegister
URL;VALUE=URI:https://mylevel2.com/events/navigating-your-glucose-a-fram
 ework-for-success-class-3-principles-of-behavior-change-3/
UID:urn:uuid:1a884a63-b075-4e8f-a6ea-ced4017a4b83
STATUS:CONFIRMED
ORGANIZER:
DTSTAMP:20260419T162749Z
DTSTART;TZID=America/Chicago:20240201T170000
DTEND;TZID=America/Chicago:20240201T170000
END:VEVENT
END:VCALENDAR