BEGIN:VCALENDAR
METHOD:PUBLISH
VERSION:2.0
CALSCALE:GREGORIAN
PRODID:-//NONSGML Sandhills Development\, LLC//NONSGML Sugar Calendar Fe
 eds v3.5.0//EN
X-WR-CALNAME:8:00 a.m. CT - Movement for Success: Class 2
X-WR-CALDESC:Level2
X-WR-TIMEZONE:UTC
BEGIN:VTIMEZONE
TZID:UTC
BEGIN:STANDARD
TZOFFSETFROM:+0000
TZOFFSETTO:+0000
DTSTART:20250716T200000
TZNAME:UTC
END:STANDARD
END:VTIMEZONE
BEGIN:VTIMEZONE
TZID:America/Chicago
BEGIN:STANDARD
TZOFFSETFROM:-0500
TZOFFSETTO:-0600
DTSTART:20251102T070000
TZNAME:CST
END:STANDARD
END:VTIMEZONE
BEGIN:VEVENT
SUMMARY:8:00 a.m. CT - Movement for Success: Class 2
DESCRIPTION:Led by Coach Jeanette\n\nClass 2 – Exercise for Blood Gluc
 ose Management: Interested in exercise but don’t know where to begin? 
 Feel like you are exercising more and not seeing the results you want? J
 oin this class to learn more and take small steps to create lasting chan
 ge.\n\nRegister
URL;VALUE=URI:https://mylevel2.com/events/movement-for-success-class-2-0
 1-15/
UID:urn:uuid:ab4de5c8-397e-416b-8262-63b5fc761137
STATUS:CONFIRMED
ORGANIZER:
DTSTAMP:20260419T175008Z
DTSTART;TZID=America/Chicago:20260115T080000
DTEND;TZID=America/Chicago:20260115T083000
END:VEVENT
END:VCALENDAR