BEGIN:VCALENDAR
METHOD:PUBLISH
VERSION:2.0
CALSCALE:GREGORIAN
PRODID:-//NONSGML Sandhills Development\, LLC//NONSGML Sugar Calendar Fe
 eds v3.5.0//EN
X-WR-CALNAME:5:30 p.m. CT - Motivation & Vision
X-WR-CALDESC:Level2
X-WR-TIMEZONE:UTC
BEGIN:VTIMEZONE
TZID:UTC
BEGIN:STANDARD
TZOFFSETFROM:+0000
TZOFFSETTO:+0000
DTSTART:20250326T053000
TZNAME:UTC
END:STANDARD
END:VTIMEZONE
BEGIN:VTIMEZONE
TZID:America/Chicago
BEGIN:DAYLIGHT
TZOFFSETFROM:-0500
TZOFFSETTO:-0500
DTSTART:20250326T053000
TZNAME:CDT
END:DAYLIGHT
END:VTIMEZONE
BEGIN:VEVENT
SUMMARY:5:30 p.m. CT - Motivation & Vision
DESCRIPTION:Motivation is a feeling—it can be powerful\, but it’s al
 so fleeting. So how do you stay focused and keep moving forward toward y
 our Wellness Vision\, even when motivation fades? Join Jeanette\, a Boar
 d-Certified Health and Wellness Coach\, for a session exploring the scie
 nce of sustained focus and commitment. Discover practical strategies to 
 stay on track and learn how to achieve the health and well-being you tru
 ly desire.\n\nRegister
URL;VALUE=URI:https://mylevel2.com/events/motivation-and-vision-9-24/
UID:urn:uuid:ab4de5c8-397e-416b-8262-63b5fc761137
STATUS:CONFIRMED
ORGANIZER:
DTSTAMP:20260419T143557Z
DTSTART;TZID=America/Chicago:20250924T173000
DTEND;TZID=America/Chicago:20250924T180000
END:VEVENT
END:VCALENDAR