BEGIN:VCALENDAR
METHOD:PUBLISH
VERSION:2.0
CALSCALE:GREGORIAN
PRODID:-//NONSGML Sandhills Development\, LLC//NONSGML Sugar Calendar Fe
 eds v3.5.0//EN
X-WR-CALNAME:11:30 a.m. CT - Motivation & Consistency: Class 2
X-WR-CALDESC:Level2
X-WR-TIMEZONE:UTC
BEGIN:VTIMEZONE
TZID:UTC
BEGIN:STANDARD
TZOFFSETFROM:+0000
TZOFFSETTO:+0000
DTSTART:20250324T233000
TZNAME:UTC
END:STANDARD
END:VTIMEZONE
BEGIN:VTIMEZONE
TZID:America/Chicago
BEGIN:DAYLIGHT
TZOFFSETFROM:-0500
TZOFFSETTO:-0500
DTSTART:20250324T233000
TZNAME:CDT
END:DAYLIGHT
END:VTIMEZONE
BEGIN:VEVENT
SUMMARY:11:30 a.m. CT - Motivation & Consistency: Class 2
DESCRIPTION:Unlock the science behind lasting behavior change. This seri
 es will guide you through creating a Wellness Vision\, the Principles of
  Behavior Change\, and How to Ask Others for Support.\n\nJoin Jeanette\,
  a Board-Certified Health and Wellness Coach\, to discover how an inspir
 ing wellness vision\, effective action plans\, and a supportive network 
 can lead to lasting success.\n\nClass 2 – Principles of Behavior Chang
 e: Understanding the key principles that drive successful behavior chang
 e and help actions become a habit.\n\nRegister
URL;VALUE=URI:https://mylevel2.com/events/motivation-and-consistency-2-9
 -23/
UID:urn:uuid:ab4de5c8-397e-416b-8262-63b5fc761137
STATUS:CONFIRMED
ORGANIZER:
DTSTAMP:20260424T195749Z
DTSTART;TZID=America/Chicago:20250923T113000
DTEND;TZID=America/Chicago:20250923T120000
END:VEVENT
END:VCALENDAR