BEGIN:VCALENDAR
METHOD:PUBLISH
VERSION:2.0
CALSCALE:GREGORIAN
PRODID:-//NONSGML Sandhills Development\, LLC//NONSGML Sugar Calendar Fe
 eds v3.5.0//EN
X-WR-CALNAME:11:30 a.m. CT - Mindful Eating Essentials
X-WR-CALDESC:Level2
X-WR-TIMEZONE:UTC
BEGIN:VTIMEZONE
TZID:UTC
BEGIN:STANDARD
TZOFFSETFROM:+0000
TZOFFSETTO:+0000
DTSTART:20250908T233000
TZNAME:UTC
END:STANDARD
END:VTIMEZONE
BEGIN:VTIMEZONE
TZID:America/Chicago
BEGIN:STANDARD
TZOFFSETFROM:-0500
TZOFFSETTO:-0600
DTSTART:20251102T070000
TZNAME:CST
END:STANDARD
BEGIN:DAYLIGHT
TZOFFSETFROM:-0600
TZOFFSETTO:-0500
DTSTART:20260308T080000
TZNAME:CDT
END:DAYLIGHT
END:VTIMEZONE
BEGIN:VEVENT
SUMMARY:11:30 a.m. CT - Mindful Eating Essentials
DESCRIPTION:Led by Coach Jeanette\n\nJoin Jeanette\, a Board-Certified H
 ealth and Wellness Coach\, to learn the principles and mindset tools of 
 mindful eating. Practice techniques to eat more consciously\, enjoy your
  food without overeating\, and create more stable glucose numbers.\n\nRe
 gister
URL;VALUE=URI:https://mylevel2.com/events/mindful-eating-essentials-03-1
 0/
UID:urn:uuid:ab4de5c8-397e-416b-8262-63b5fc761137
STATUS:CONFIRMED
ORGANIZER:
DTSTAMP:20260424T031711Z
DTSTART;TZID=America/Chicago:20260310T113000
DTEND;TZID=America/Chicago:20260310T120000
END:VEVENT
END:VCALENDAR