BEGIN:VCALENDAR
METHOD:PUBLISH
VERSION:2.0
CALSCALE:GREGORIAN
PRODID:-//NONSGML Sandhills Development\, LLC//NONSGML Sugar Calendar Fe
 eds v3.5.0//EN
X-WR-CALNAME:Identifying Carbs: Summer Edition
X-WR-CALDESC:Level2
X-WR-TIMEZONE:UTC
BEGIN:VTIMEZONE
TZID:UTC
BEGIN:STANDARD
TZOFFSETFROM:+0000
TZOFFSETTO:+0000
DTSTART:20230110T233000
TZNAME:UTC
END:STANDARD
END:VTIMEZONE
BEGIN:VTIMEZONE
TZID:America/Chicago
BEGIN:DAYLIGHT
TZOFFSETFROM:-0600
TZOFFSETTO:-0500
DTSTART:20230312T080000
TZNAME:CDT
END:DAYLIGHT
END:VTIMEZONE
BEGIN:VEVENT
SUMMARY:Identifying Carbs: Summer Edition
DESCRIPTION:Join Kayla\, one of our Level2 Registered Dietitians\, as sh
 e walks you through basic carbohydrate identification\, the first step t
 o managing your blood sugars. Learn about food sources of carbohydrates\
 , including hidden sources!\n\nRegister
URL;VALUE=URI:https://mylevel2.com/events/identifying-carbs-summer-editi
 on/
UID:urn:uuid:e50618e4-6074-4494-80ae-1d6840e43b3d
STATUS:CONFIRMED
ORGANIZER:
DTSTAMP:20260419T162346Z
DTSTART;TZID=America/Chicago:20230712T113000
DTEND;TZID=America/Chicago:20230712T113000
END:VEVENT
END:VCALENDAR