BEGIN:VCALENDAR
METHOD:PUBLISH
VERSION:2.0
CALSCALE:GREGORIAN
PRODID:-//NONSGML Sandhills Development\, LLC//NONSGML Sugar Calendar Fe
 eds v3.5.0//EN
X-WR-CALNAME:12:00 p.m. CT - How to Manage Emotional Eating: Class 5
X-WR-CALDESC:Level2
X-WR-TIMEZONE:UTC
BEGIN:VTIMEZONE
TZID:UTC
BEGIN:STANDARD
TZOFFSETFROM:+0000
TZOFFSETTO:+0000
DTSTART:20250606T000000
TZNAME:UTC
END:STANDARD
END:VTIMEZONE
BEGIN:VTIMEZONE
TZID:America/Chicago
BEGIN:STANDARD
TZOFFSETFROM:-0500
TZOFFSETTO:-0600
DTSTART:20251102T070000
TZNAME:CST
END:STANDARD
END:VTIMEZONE
BEGIN:VEVENT
SUMMARY:12:00 p.m. CT - How to Manage Emotional Eating: Class 5
DESCRIPTION:Led by Coach Susan\n\nClass 5 – Mindful Eating Principles:
  Learn the principles of mindful eating. Practice techniques to eat mor
 e consciously and enjoy your food without overeating.\n\nRegister
URL;VALUE=URI:https://mylevel2.com/events/how-to-manage-emotional-eating
 -class-5-12-05/
UID:urn:uuid:ab4de5c8-397e-416b-8262-63b5fc761137
STATUS:CONFIRMED
ORGANIZER:
DTSTAMP:20260419T233511Z
DTSTART;TZID=America/Chicago:20251205T120000
DTEND;TZID=America/Chicago:20251205T123000
END:VEVENT
END:VCALENDAR