BEGIN:VCALENDAR
METHOD:PUBLISH
VERSION:2.0
CALSCALE:GREGORIAN
PRODID:-//NONSGML Sandhills Development\, LLC//NONSGML Sugar Calendar Fe
 eds v3.5.0//EN
X-WR-CALNAME:6:00 p.m. CT - Emotional Eating: Class 2
X-WR-CALDESC:Level2
X-WR-TIMEZONE:UTC
BEGIN:VTIMEZONE
TZID:UTC
BEGIN:STANDARD
TZOFFSETFROM:+0000
TZOFFSETTO:+0000
DTSTART:20250318T060000
TZNAME:UTC
END:STANDARD
END:VTIMEZONE
BEGIN:VTIMEZONE
TZID:America/Chicago
BEGIN:DAYLIGHT
TZOFFSETFROM:-0500
TZOFFSETTO:-0500
DTSTART:20250318T060000
TZNAME:CDT
END:DAYLIGHT
END:VTIMEZONE
BEGIN:VEVENT
SUMMARY:6:00 p.m. CT - Emotional Eating: Class 2
DESCRIPTION:Led by Coach Susan\n\nClass 2 – Recognizing Eating Pattern
 s: How does awareness factor into your eating plan? How do you decide w
 hat to eat? What factors influence what you eat throughout the day? Join
  our Level2 coaches as they help you explore awareness.\n\nRegister
URL;VALUE=URI:https://mylevel2.com/events/how-to-manage-emotional-eating
 -class-2-9-16/
UID:urn:uuid:ab4de5c8-397e-416b-8262-63b5fc761137
STATUS:CONFIRMED
ORGANIZER:
DTSTAMP:20260424T213308Z
DTSTART;TZID=America/Chicago:20250916T180000
DTEND;TZID=America/Chicago:20250916T183000
END:VEVENT
END:VCALENDAR