BEGIN:VCALENDAR
METHOD:PUBLISH
VERSION:2.0
CALSCALE:GREGORIAN
PRODID:-//NONSGML Sandhills Development\, LLC//NONSGML Sugar Calendar Fe
 eds v3.5.0//EN
X-WR-CALNAME:How to Deal with Emotional Eating Series: Class 5: Mindful 
 Eating Principles
X-WR-CALDESC:Level2
X-WR-TIMEZONE:UTC
BEGIN:VTIMEZONE
TZID:UTC
BEGIN:STANDARD
TZOFFSETFROM:+0000
TZOFFSETTO:+0000
DTSTART:20230413T050000
TZNAME:UTC
END:STANDARD
END:VTIMEZONE
BEGIN:VTIMEZONE
TZID:America/Chicago
BEGIN:DAYLIGHT
TZOFFSETFROM:-0500
TZOFFSETTO:-0500
DTSTART:20230413T050000
TZNAME:CDT
END:DAYLIGHT
END:VTIMEZONE
BEGIN:VEVENT
SUMMARY:How to Deal with Emotional Eating Series: Class 5: Mindful Eatin
 g Principles
DESCRIPTION:How does eating while using your phone or watching TV affect
  the quality and quantity of what you eat? Join our Level2 Coaches as th
 ey walk you through mindful eating practices. Tune into your senses to i
 mpact your eating behaviors.\n\nRegister
URL;VALUE=URI:https://mylevel2.com/events/how-to-deal-with-emotional-eat
 ing-series-class-5-mindful-eating-principles/
UID:urn:uuid:bcacbe3d-75a3-4f38-bf91-f5382ab229b4
STATUS:CONFIRMED
ORGANIZER:
DTSTAMP:20260420T012734Z
DTSTART;TZID=America/Chicago:20231012T170000
DTEND;TZID=America/Chicago:20231012T170000
END:VEVENT
END:VCALENDAR