BEGIN:VCALENDAR
METHOD:PUBLISH
VERSION:2.0
CALSCALE:GREGORIAN
PRODID:-//NONSGML Sandhills Development\, LLC//NONSGML Sugar Calendar Fe
 eds v3.5.0//EN
X-WR-CALNAME:How to Deal with Emotional Eating Series: Class 3: Explorin
 g Hunger Cues
X-WR-CALDESC:Level2
X-WR-TIMEZONE:UTC
BEGIN:VTIMEZONE
TZID:UTC
BEGIN:STANDARD
TZOFFSETFROM:+0000
TZOFFSETTO:+0000
DTSTART:20230330T050000
TZNAME:UTC
END:STANDARD
END:VTIMEZONE
BEGIN:VTIMEZONE
TZID:America/Chicago
BEGIN:DAYLIGHT
TZOFFSETFROM:-0500
TZOFFSETTO:-0500
DTSTART:20230330T050000
TZNAME:CDT
END:DAYLIGHT
END:VTIMEZONE
BEGIN:VEVENT
SUMMARY:How to Deal with Emotional Eating Series: Class 3: Exploring Hun
 ger Cues
DESCRIPTION:Have you ever asked yourself\, "Why am I eating right now?" 
 It is a good start to understanding your hunger cues. Our Level2 coaches
  will help you identify cues to help you eat when your body needs fuelin
 g\, and not just in responding to situations.\n\nRegister
URL;VALUE=URI:https://mylevel2.com/events/how-to-deal-with-emotional-eat
 ing-series-class-3-exploring-hunger-cues/
UID:urn:uuid:e05e7811-9b0f-48de-a400-6193a8c84bec
STATUS:CONFIRMED
ORGANIZER:
DTSTAMP:20260421T095915Z
DTSTART;TZID=America/Chicago:20230928T170000
DTEND;TZID=America/Chicago:20230928T170000
END:VEVENT
END:VCALENDAR