BEGIN:VCALENDAR
METHOD:PUBLISH
VERSION:2.0
CALSCALE:GREGORIAN
PRODID:-//NONSGML Sandhills Development\, LLC//NONSGML Sugar Calendar Fe
 eds v3.5.0//EN
X-WR-CALNAME:How to Deal with Emotional Eating Series: Class 2: Recogniz
 ing Eating Patterns
X-WR-CALDESC:Level2
X-WR-TIMEZONE:UTC
BEGIN:VTIMEZONE
TZID:UTC
BEGIN:STANDARD
TZOFFSETFROM:+0000
TZOFFSETTO:+0000
DTSTART:20230323T050000
TZNAME:UTC
END:STANDARD
END:VTIMEZONE
BEGIN:VTIMEZONE
TZID:America/Chicago
BEGIN:DAYLIGHT
TZOFFSETFROM:-0500
TZOFFSETTO:-0500
DTSTART:20230323T050000
TZNAME:CDT
END:DAYLIGHT
END:VTIMEZONE
BEGIN:VEVENT
SUMMARY:How to Deal with Emotional Eating Series: Class 2: Recognizing E
 ating Patterns
DESCRIPTION:How does awareness factor into your eating plan? How do you 
 decide what to eat? What factors influence what you eat throughout the d
 ay? Join our Level2 coaches as they help you explore awareness.\n\nRegis
 ter
URL;VALUE=URI:https://mylevel2.com/events/how-to-deal-with-emotional-eat
 ing-series-class-2-recognizing-eating-patterns/
UID:urn:uuid:bba8c6ae-3074-4f92-9ba4-63cd5958639d
STATUS:CONFIRMED
ORGANIZER:
DTSTAMP:20260419T214522Z
DTSTART;TZID=America/Chicago:20230921T170000
DTEND;TZID=America/Chicago:20230921T170000
END:VEVENT
END:VCALENDAR