BEGIN:VCALENDAR
METHOD:PUBLISH
VERSION:2.0
CALSCALE:GREGORIAN
PRODID:-//NONSGML Sandhills Development\, LLC//NONSGML Sugar Calendar Fe
 eds v3.5.0//EN
X-WR-CALNAME:How to Deal with Emotional Eating Series: Class 1: Identify
 ing Emotions
X-WR-CALDESC:Level2
X-WR-TIMEZONE:UTC
BEGIN:VTIMEZONE
TZID:UTC
BEGIN:STANDARD
TZOFFSETFROM:+0000
TZOFFSETTO:+0000
DTSTART:20230316T050000
TZNAME:UTC
END:STANDARD
END:VTIMEZONE
BEGIN:VTIMEZONE
TZID:America/Chicago
BEGIN:DAYLIGHT
TZOFFSETFROM:-0500
TZOFFSETTO:-0500
DTSTART:20230316T050000
TZNAME:CDT
END:DAYLIGHT
END:VTIMEZONE
BEGIN:VEVENT
SUMMARY:How to Deal with Emotional Eating Series: Class 1: Identifying E
 motions
DESCRIPTION:Learn how to identify feelings. This is the first step to un
 derstanding emotional eating.\n\nRegister
URL;VALUE=URI:https://mylevel2.com/events/how-to-deal-with-emotional-eat
 ing-series-class-1-identifying-emotions/
UID:urn:uuid:244a7443-f7b9-4c2b-b46a-72ea7bd798c0
STATUS:CONFIRMED
ORGANIZER:
DTSTAMP:20260419T214512Z
DTSTART;TZID=America/Chicago:20230914T170000
DTEND;TZID=America/Chicago:20230914T170000
END:VEVENT
END:VCALENDAR