BEGIN:VCALENDAR
METHOD:PUBLISH
VERSION:2.0
CALSCALE:GREGORIAN
PRODID:-//NONSGML Sandhills Development\, LLC//NONSGML Sugar Calendar Fe
 eds v3.5.0//EN
X-WR-CALNAME:Healthy Habits for Low Carb Living Series: Class 5: Applyin
 g Nutrition Concepts to Your Daily Life
X-WR-CALDESC:Level2
X-WR-TIMEZONE:UTC
BEGIN:VTIMEZONE
TZID:UTC
BEGIN:STANDARD
TZOFFSETFROM:+0000
TZOFFSETTO:+0000
DTSTART:20240102T060000
TZNAME:UTC
END:STANDARD
END:VTIMEZONE
BEGIN:VTIMEZONE
TZID:America/Chicago
BEGIN:DAYLIGHT
TZOFFSETFROM:-0600
TZOFFSETTO:-0500
DTSTART:20240310T080000
TZNAME:CDT
END:DAYLIGHT
END:VTIMEZONE
BEGIN:VEVENT
SUMMARY:Healthy Habits for Low Carb Living Series: Class 5: Applying Nut
 rition Concepts to Your Daily Life
DESCRIPTION:Led by Coach Neha\n\nIn Class 5 of the Healthy Habits for Lo
 w Carb Living series\, join a Level2 Registered Dietitian and Board Cert
 ified Health and Wellness Coach as you apply all the nutrition concepts 
 in your daily life from the advanced nutrition series such as: identifyi
 ng carbs\, food label reading\, creating a balanced plate\, and counting
  your carbs.\n\nRegister
URL;VALUE=URI:https://mylevel2.com/events/healthy-habits-for-low-carb-li
 ving-series-class-5-applying-nutrtition-concepts-to-your-daily-life-july
 -2/
UID:urn:uuid:aed08f65-48ea-4ca5-8b4d-984b3519f1fd
STATUS:CONFIRMED
ORGANIZER:
DTSTAMP:20260420T042240Z
DTSTART;TZID=America/Chicago:20240702T180000
DTEND;TZID=America/Chicago:20240702T180000
END:VEVENT
END:VCALENDAR