BEGIN:VCALENDAR
METHOD:PUBLISH
VERSION:2.0
CALSCALE:GREGORIAN
PRODID:-//NONSGML Sandhills Development\, LLC//NONSGML Sugar Calendar Fe
 eds v3.5.0//EN
X-WR-CALNAME:Glucose Unlocked Series: Class 7: Mindful Eating
X-WR-CALDESC:Level2
X-WR-TIMEZONE:UTC
BEGIN:VTIMEZONE
TZID:UTC
BEGIN:STANDARD
TZOFFSETFROM:+0000
TZOFFSETTO:+0000
DTSTART:20230424T060000
TZNAME:UTC
END:STANDARD
END:VTIMEZONE
BEGIN:VTIMEZONE
TZID:America/Chicago
BEGIN:DAYLIGHT
TZOFFSETFROM:-0500
TZOFFSETTO:-0500
DTSTART:20230424T060000
TZNAME:CDT
END:DAYLIGHT
END:VTIMEZONE
BEGIN:VEVENT
SUMMARY:Glucose Unlocked Series: Class 7: Mindful Eating
DESCRIPTION:How does eating while using your phone or watching TV affect
  the quality and quantity of what you eat?  Learn to be present while e
 ating to improve blood sugar levels.\n\nRegister
URL;VALUE=URI:https://mylevel2.com/events/glucose-unlocked-series-class-
 7-mindful-eating/
UID:urn:uuid:2f05b142-b775-4a55-9640-54e2a4c47bc2
STATUS:CONFIRMED
ORGANIZER:
DTSTAMP:20260420T032125Z
DTSTART;TZID=America/Chicago:20231023T180000
DTEND;TZID=America/Chicago:20231023T180000
END:VEVENT
END:VCALENDAR