BEGIN:VCALENDAR
METHOD:PUBLISH
VERSION:2.0
CALSCALE:GREGORIAN
PRODID:-//NONSGML Sandhills Development\, LLC//NONSGML Sugar Calendar Fe
 eds v3.5.0//EN
X-WR-CALNAME:Glucose Unlocked Series: Class 6: Jump Start Your Exercise
X-WR-CALDESC:Level2
X-WR-TIMEZONE:UTC
BEGIN:VTIMEZONE
TZID:UTC
BEGIN:STANDARD
TZOFFSETFROM:+0000
TZOFFSETTO:+0000
DTSTART:20230418T233000
TZNAME:UTC
END:STANDARD
END:VTIMEZONE
BEGIN:VTIMEZONE
TZID:America/Chicago
BEGIN:DAYLIGHT
TZOFFSETFROM:-0500
TZOFFSETTO:-0500
DTSTART:20230418T233000
TZNAME:CDT
END:DAYLIGHT
END:VTIMEZONE
BEGIN:VEVENT
SUMMARY:Glucose Unlocked Series: Class 6: Jump Start Your Exercise
DESCRIPTION:Learn how to be successful with exercise by jump starting an
  exercise routine you can stick with.\n\nRegister
URL;VALUE=URI:https://mylevel2.com/events/glucose-unlocked-series-class-
 6-jump-start-your-exercise-2/
UID:urn:uuid:14c5e03c-d4b5-4663-bd2d-f0f579fc06ff
STATUS:CONFIRMED
ORGANIZER:
DTSTAMP:20260424T082803Z
DTSTART;TZID=America/Chicago:20231018T113000
DTEND;TZID=America/Chicago:20231018T113000
END:VEVENT
END:VCALENDAR