BEGIN:VCALENDAR
METHOD:PUBLISH
VERSION:2.0
CALSCALE:GREGORIAN
PRODID:-//NONSGML Sandhills Development\, LLC//NONSGML Sugar Calendar Fe
 eds v3.5.0//EN
X-WR-CALNAME:Glucose Unlocked Series: Class 4: Quick Tips to Master Your
  Blood Sugars
X-WR-CALDESC:Level2
X-WR-TIMEZONE:UTC
BEGIN:VTIMEZONE
TZID:UTC
BEGIN:STANDARD
TZOFFSETFROM:+0000
TZOFFSETTO:+0000
DTSTART:20230404T233000
TZNAME:UTC
END:STANDARD
END:VTIMEZONE
BEGIN:VTIMEZONE
TZID:America/Chicago
BEGIN:DAYLIGHT
TZOFFSETFROM:-0500
TZOFFSETTO:-0500
DTSTART:20230404T233000
TZNAME:CDT
END:DAYLIGHT
END:VTIMEZONE
BEGIN:VEVENT
SUMMARY:Glucose Unlocked Series: Class 4: Quick Tips to Master Your Bloo
 d Sugars
DESCRIPTION:Explore how just tiny changes to your daily routine can help
  to optimize your blood glucose.  This class covers food order\, meal p
 rep and exercise strategies.\n\nRegister
URL;VALUE=URI:https://mylevel2.com/events/glucose-unlocked-series-class-
 4-quick-tips-to-master-your-blood-sugars-2/
UID:urn:uuid:394b135f-288e-4245-9d60-c83a9c8cc944
STATUS:CONFIRMED
ORGANIZER:
DTSTAMP:20260419T235057Z
DTSTART;TZID=America/Chicago:20231004T113000
DTEND;TZID=America/Chicago:20231004T113000
END:VEVENT
END:VCALENDAR