BEGIN:VCALENDAR
METHOD:PUBLISH
VERSION:2.0
CALSCALE:GREGORIAN
PRODID:-//NONSGML Sandhills Development\, LLC//NONSGML Sugar Calendar Fe
 eds v3.5.0//EN
X-WR-CALNAME:Glucose Unlocked Series: Class 3: Learn How to Create a Car
 b Friendly Plate
X-WR-CALDESC:Level2
X-WR-TIMEZONE:UTC
BEGIN:VTIMEZONE
TZID:UTC
BEGIN:STANDARD
TZOFFSETFROM:+0000
TZOFFSETTO:+0000
DTSTART:20230328T233000
TZNAME:UTC
END:STANDARD
END:VTIMEZONE
BEGIN:VTIMEZONE
TZID:America/Chicago
BEGIN:DAYLIGHT
TZOFFSETFROM:-0500
TZOFFSETTO:-0500
DTSTART:20230328T233000
TZNAME:CDT
END:DAYLIGHT
END:VTIMEZONE
BEGIN:VEVENT
SUMMARY:Glucose Unlocked Series: Class 3: Learn How to Create a Carb Fri
 endly Plate
DESCRIPTION:Learn how to read a food label and how to create a carb frie
 ndly balanced plate to manage your blood sugars.\n\nRegister
URL;VALUE=URI:https://mylevel2.com/events/glucose-unlocked-series-class-
 3-learn-how-to-create-a-carb-friendly-plate-2/
UID:urn:uuid:38459ff7-02da-4db0-b688-ce0e0849a37f
STATUS:CONFIRMED
ORGANIZER:
DTSTAMP:20260421T100358Z
DTSTART;TZID=America/Chicago:20230927T113000
DTEND;TZID=America/Chicago:20230927T113000
END:VEVENT
END:VCALENDAR