BEGIN:VCALENDAR
METHOD:PUBLISH
VERSION:2.0
CALSCALE:GREGORIAN
PRODID:-//NONSGML Sandhills Development\, LLC//NONSGML Sugar Calendar Fe
 eds v3.5.0//EN
X-WR-CALNAME:Glucose Unlocked Series: Class 1: Setting a Wellness Vision
 ...Motivation!
X-WR-CALDESC:Level2
X-WR-TIMEZONE:UTC
BEGIN:VTIMEZONE
TZID:UTC
BEGIN:STANDARD
TZOFFSETFROM:+0000
TZOFFSETTO:+0000
DTSTART:20230314T233000
TZNAME:UTC
END:STANDARD
END:VTIMEZONE
BEGIN:VTIMEZONE
TZID:America/Chicago
BEGIN:DAYLIGHT
TZOFFSETFROM:-0500
TZOFFSETTO:-0500
DTSTART:20230314T233000
TZNAME:CDT
END:DAYLIGHT
END:VTIMEZONE
BEGIN:VEVENT
SUMMARY:Glucose Unlocked Series: Class 1: Setting a Wellness Vision...Mo
 tivation!
DESCRIPTION:Define your health &amp\; wellness vision\, establish accoun
 tability\, and set the stage for setting realistic goals. Learn how to r
 eflect on the past\, decide what is most important in the present\, and 
 how to take small steps to accomplish big dreams.\n\nRegister
URL;VALUE=URI:https://mylevel2.com/events/glucose-unlocked-series-class-
 1-setting-a-wellness-vision-motivation-2/
UID:urn:uuid:46bce120-51a7-433c-8c2a-af75d9707d4f
STATUS:CONFIRMED
ORGANIZER:
DTSTAMP:20260419T214355Z
DTSTART;TZID=America/Chicago:20230913T113000
DTEND;TZID=America/Chicago:20230913T113000
END:VEVENT
END:VCALENDAR