BEGIN:VCALENDAR
METHOD:PUBLISH
VERSION:2.0
CALSCALE:GREGORIAN
PRODID:-//NONSGML Sandhills Development\, LLC//NONSGML Sugar Calendar Fe
 eds v3.5.0//EN
X-WR-CALNAME:Food Order: Does it Matter?
X-WR-CALDESC:Level2
X-WR-TIMEZONE:UTC
BEGIN:VTIMEZONE
TZID:UTC
BEGIN:STANDARD
TZOFFSETFROM:+0000
TZOFFSETTO:+0000
DTSTART:20230207T060000
TZNAME:UTC
END:STANDARD
END:VTIMEZONE
BEGIN:VTIMEZONE
TZID:America/Chicago
BEGIN:DAYLIGHT
TZOFFSETFROM:-0600
TZOFFSETTO:-0500
DTSTART:20230312T080000
TZNAME:CDT
END:DAYLIGHT
END:VTIMEZONE
BEGIN:VEVENT
SUMMARY:Food Order: Does it Matter?
DESCRIPTION:Join Neha\, one of our Level2 Registered Dietitians\, as she
  explores how just a tiny change to the order in which you eat your food
  can help to optimize your blood glucose.\n\nRegister
URL;VALUE=URI:https://mylevel2.com/events/food-order-does-it-matter/
UID:urn:uuid:512fb05f-2244-4500-8377-a05de13b8a0d
STATUS:CONFIRMED
ORGANIZER:
DTSTAMP:20260419T180815Z
DTSTART;TZID=America/Chicago:20230808T180000
DTEND;TZID=America/Chicago:20230808T180000
END:VEVENT
END:VCALENDAR