BEGIN:VCALENDAR
METHOD:PUBLISH
VERSION:2.0
CALSCALE:GREGORIAN
PRODID:-//NONSGML Sandhills Development\, LLC//NONSGML Sugar Calendar Fe
 eds v3.5.0//EN
X-WR-CALNAME:6:00 p.m. CT - Navigating Festive Celebrations & the Holida
 y Season: Class 2
X-WR-CALDESC:Level2
X-WR-TIMEZONE:UTC
BEGIN:VTIMEZONE
TZID:UTC
BEGIN:STANDARD
TZOFFSETFROM:+0000
TZOFFSETTO:+0000
DTSTART:20250506T060000
TZNAME:UTC
END:STANDARD
END:VTIMEZONE
BEGIN:VTIMEZONE
TZID:America/Chicago
BEGIN:STANDARD
TZOFFSETFROM:-0500
TZOFFSETTO:-0600
DTSTART:20251102T070000
TZNAME:CST
END:STANDARD
END:VTIMEZONE
BEGIN:VEVENT
SUMMARY:6:00 p.m. CT - Navigating Festive Celebrations & the Holiday Sea
 son: Class 2
DESCRIPTION:Led by Coach Susan\n\nClass 2 – Holiday Hustle: Move Your 
 Way to Better Glucose Discover fun and effective ways to stay active and
  support your blood sugar during the busiest time of year.\n\nRegister
URL;VALUE=URI:https://mylevel2.com/events/festivecelebrations-class-2-11
 -04/
UID:urn:uuid:ab4de5c8-397e-416b-8262-63b5fc761137
STATUS:CONFIRMED
ORGANIZER:
DTSTAMP:20260420T111806Z
DTSTART;TZID=America/Chicago:20251104T180000
DTEND;TZID=America/Chicago:20251104T183000
END:VEVENT
END:VCALENDAR