BEGIN:VCALENDAR
METHOD:PUBLISH
VERSION:2.0
CALSCALE:GREGORIAN
PRODID:-//NONSGML Sandhills Development\, LLC//NONSGML Sugar Calendar Fe
 eds v3.5.0//EN
X-WR-CALNAME:11:30 a.m. CT - Navigating Festive Celebrations & the Holid
 ay Season: Class 6
X-WR-CALDESC:Level2
X-WR-TIMEZONE:UTC
BEGIN:VTIMEZONE
TZID:UTC
BEGIN:STANDARD
TZOFFSETFROM:+0000
TZOFFSETTO:+0000
DTSTART:20250602T233000
TZNAME:UTC
END:STANDARD
END:VTIMEZONE
BEGIN:VTIMEZONE
TZID:America/Chicago
BEGIN:STANDARD
TZOFFSETFROM:-0500
TZOFFSETTO:-0600
DTSTART:20251102T070000
TZNAME:CST
END:STANDARD
END:VTIMEZONE
BEGIN:VEVENT
SUMMARY:11:30 a.m. CT - Navigating Festive Celebrations & the Holiday Se
 ason: Class 6
DESCRIPTION:Led by Coach Jeanette\n\nClass 6 – Stronger Together: The 
 Art of Asking for Support Build your support network and learn how to as
 k for—and offer—help with confidence and compassion.\n\nRegister
URL;VALUE=URI:https://mylevel2.com/events/festive-celebrations-class-6-1
 2-02/
UID:urn:uuid:ab4de5c8-397e-416b-8262-63b5fc761137
STATUS:CONFIRMED
ORGANIZER:
DTSTAMP:20260421T022131Z
DTSTART;TZID=America/Chicago:20251202T113000
DTEND;TZID=America/Chicago:20251202T120000
END:VEVENT
END:VCALENDAR