BEGIN:VCALENDAR
METHOD:PUBLISH
VERSION:2.0
CALSCALE:GREGORIAN
PRODID:-//NONSGML Sandhills Development\, LLC//NONSGML Sugar Calendar Fe
 eds v3.5.0//EN
X-WR-CALNAME:Embracing Special Occasions\, Holidays & Changing Seasons S
 eries: Class 4: Mindful Eating
X-WR-CALDESC:Level2
X-WR-TIMEZONE:UTC
BEGIN:VTIMEZONE
TZID:UTC
BEGIN:STANDARD
TZOFFSETFROM:+0000
TZOFFSETTO:+0000
DTSTART:20230516T060000
TZNAME:UTC
END:STANDARD
END:VTIMEZONE
BEGIN:VTIMEZONE
TZID:America/Chicago
BEGIN:STANDARD
TZOFFSETFROM:-0500
TZOFFSETTO:-0600
DTSTART:20231105T070000
TZNAME:CST
END:STANDARD
END:VTIMEZONE
BEGIN:VEVENT
SUMMARY:Embracing Special Occasions\, Holidays & Changing Seasons Series
 : Class 4: Mindful Eating
DESCRIPTION:Led by Coach Neha\n\nMake sure you are enjoying your special
  seasonal meals to the fullest by tuning into your body's cues.\n\nRegis
 ter
URL;VALUE=URI:https://mylevel2.com/events/embracing-special-occasions-ho
 lidays-changing-seasons-series-class-4-mindful-eating-2/
UID:urn:uuid:7df82b28-9f72-4b86-98a9-e341616e178d
STATUS:CONFIRMED
ORGANIZER:
DTSTAMP:20260422T210302Z
DTSTART;TZID=America/Chicago:20231114T180000
DTEND;TZID=America/Chicago:20231114T180000
END:VEVENT
END:VCALENDAR