BEGIN:VCALENDAR
METHOD:PUBLISH
VERSION:2.0
CALSCALE:GREGORIAN
PRODID:-//NONSGML Sandhills Development\, LLC//NONSGML Sugar Calendar Fe
 eds v3.5.0//EN
X-WR-CALNAME:Embracing Special Occasions\, Holidays & Changing Season Se
 ries: Class 5: Handling Seasonal Stress
X-WR-CALDESC:Level2
X-WR-TIMEZONE:UTC
BEGIN:VTIMEZONE
TZID:UTC
BEGIN:STANDARD
TZOFFSETFROM:+0000
TZOFFSETTO:+0000
DTSTART:20230528T233000
TZNAME:UTC
END:STANDARD
END:VTIMEZONE
BEGIN:VTIMEZONE
TZID:America/Chicago
BEGIN:STANDARD
TZOFFSETFROM:-0500
TZOFFSETTO:-0600
DTSTART:20231105T070000
TZNAME:CST
END:STANDARD
END:VTIMEZONE
BEGIN:VEVENT
SUMMARY:Embracing Special Occasions\, Holidays & Changing Season Series:
  Class 5: Handling Seasonal Stress
DESCRIPTION:Led by Coach Erin\n\nAre you hosting your in-laws? Traveling
 ? Spending money? As much as we love the holidays and the change of seas
 ons\, they often come with a dose of stress which can affect your blood 
 sugars. Learn how to cope with the stress associated with this time of y
 ear!\n\nRegister
URL;VALUE=URI:https://mylevel2.com/events/embracing-special-occasions-ho
 lidays-changing-season-series-class-5-handling-seasonal-stress/
UID:urn:uuid:e616389d-fdab-4f2d-b83d-f1252d0d5747
STATUS:CONFIRMED
ORGANIZER:
DTSTAMP:20260422T223428Z
DTSTART;TZID=America/Chicago:20231127T113000
DTEND;TZID=America/Chicago:20231127T113000
END:VEVENT
END:VCALENDAR