BEGIN:VCALENDAR
METHOD:PUBLISH
VERSION:2.0
CALSCALE:GREGORIAN
PRODID:-//NONSGML Sandhills Development\, LLC//NONSGML Sugar Calendar Fe
 eds v3.5.0//EN
X-WR-CALNAME:8:00 a.m. CT - Ease into Healthy Habits...Change of Season\
 , Change of Plans
X-WR-CALDESC:Level2
X-WR-TIMEZONE:UTC
BEGIN:VTIMEZONE
TZID:UTC
BEGIN:STANDARD
TZOFFSETFROM:+0000
TZOFFSETTO:+0000
DTSTART:20251105T200000
TZNAME:UTC
END:STANDARD
END:VTIMEZONE
BEGIN:VTIMEZONE
TZID:America/Chicago
BEGIN:DAYLIGHT
TZOFFSETFROM:-0600
TZOFFSETTO:-0500
DTSTART:20260308T080000
TZNAME:CDT
END:DAYLIGHT
END:VTIMEZONE
BEGIN:VEVENT
SUMMARY:8:00 a.m. CT - Ease into Healthy Habits...Change of Season\, Cha
 nge of Plans
DESCRIPTION:Led by Coach Jeanette\n\nJoin Coach Jeanette\, Board Certifi
 ed Health &amp\; Wellness Coach\, for a supportive 30-minute check in fo
 cused on the principles of behavior change that help create sustainable\
 , realistic habits.\n\nAs the seasons change\, our lives and routines sh
 ift too. Different routines require different action plans for success. 
 In this session\, you’ll explore:\n\n 	How your thoughts influence act
 ions\n 	The habit loop and behavior cues\n 	The laws of behavior change\
 n 	Why accountability matters for lasting results\n\n&nbsp\;\n\nTogether
 \, we’ll map out simple\, intentional steps to create more health over
  the next 6 weeks\, so you can truly enjoy your summer feeling energized
 !\n\nRegister
URL;VALUE=URI:https://mylevel2.com/events/ease-into-healthy-habits-05-07
 /
UID:urn:uuid:ab4de5c8-397e-416b-8262-63b5fc761137
STATUS:CONFIRMED
ORGANIZER:
DTSTAMP:20260420T101931Z
DTSTART;TZID=America/Chicago:20260507T080000
DTEND;TZID=America/Chicago:20260507T083000
END:VEVENT
END:VCALENDAR