BEGIN:VCALENDAR
METHOD:PUBLISH
VERSION:2.0
CALSCALE:GREGORIAN
PRODID:-//NONSGML Sandhills Development\, LLC//NONSGML Sugar Calendar Fe
 eds v3.5.0//EN
X-WR-CALNAME:5:30 p.m. CT - Ease into Healthy Habits
X-WR-CALDESC:Level2
X-WR-TIMEZONE:UTC
BEGIN:VTIMEZONE
TZID:UTC
BEGIN:STANDARD
TZOFFSETFROM:+0000
TZOFFSETTO:+0000
DTSTART:20251105T053000
TZNAME:UTC
END:STANDARD
END:VTIMEZONE
BEGIN:VTIMEZONE
TZID:America/Chicago
BEGIN:DAYLIGHT
TZOFFSETFROM:-0600
TZOFFSETTO:-0500
DTSTART:20260308T080000
TZNAME:CDT
END:DAYLIGHT
END:VTIMEZONE
BEGIN:VEVENT
SUMMARY:5:30 p.m. CT - Ease into Healthy Habits
DESCRIPTION:Led by Coach Jeanette\n\nJoin Coach Jeanette\, a Board-Certi
 fied Health and Wellness Coach\, for a 30-minute check-in focused on the
  principles of behavior change to support sustainable habits. Discover h
 ow your thoughts influence actions\, the habit loop\, behavior cues\, th
 e laws of behavior change\, and the importance of accountability to crea
 te lasting change.\n\nRegister
URL;VALUE=URI:https://mylevel2.com/events/ease-into-healthy-habits-05-06
 /
UID:urn:uuid:ab4de5c8-397e-416b-8262-63b5fc761137
STATUS:CONFIRMED
ORGANIZER:
DTSTAMP:20260420T102341Z
DTSTART;TZID=America/Chicago:20260506T173000
DTEND;TZID=America/Chicago:20260506T180000
END:VEVENT
END:VCALENDAR