BEGIN:VCALENDAR
METHOD:PUBLISH
VERSION:2.0
CALSCALE:GREGORIAN
PRODID:-//NONSGML Sandhills Development\, LLC//NONSGML Sugar Calendar Fe
 eds v3.5.0//EN
X-WR-CALNAME:8:00 a.m. CT - Dining Out with Confidence: the Level2 Way!
X-WR-CALDESC:Level2
X-WR-TIMEZONE:UTC
BEGIN:VTIMEZONE
TZID:UTC
BEGIN:STANDARD
TZOFFSETFROM:+0000
TZOFFSETTO:+0000
DTSTART:20250122T200000
TZNAME:UTC
END:STANDARD
END:VTIMEZONE
BEGIN:VTIMEZONE
TZID:America/Chicago
BEGIN:DAYLIGHT
TZOFFSETFROM:-0600
TZOFFSETTO:-0500
DTSTART:20250309T080000
TZNAME:CDT
END:DAYLIGHT
END:VTIMEZONE
BEGIN:VEVENT
SUMMARY:8:00 a.m. CT - Dining Out with Confidence: the Level2 Way!
DESCRIPTION:Led by Coach Jeanette\n\nJoin Jeanette\, a Board-Certified H
 ealth and Wellness Coach\, and learn how to enjoy restaurant meals witho
 ut compromising your blood glucose goals!\n\nRegister
URL;VALUE=URI:https://mylevel2.com/events/dine-out-the-level2-way-7-24/
UID:urn:uuid:ab4de5c8-397e-416b-8262-63b5fc761137
STATUS:CONFIRMED
ORGANIZER:
DTSTAMP:20260421T070225Z
DTSTART;TZID=America/Chicago:20250724T080000
DTEND;TZID=America/Chicago:20250724T083000
END:VEVENT
END:VCALENDAR