BEGIN:VCALENDAR
METHOD:PUBLISH
VERSION:2.0
CALSCALE:GREGORIAN
PRODID:-//NONSGML Sandhills Development\, LLC//NONSGML Sugar Calendar Fe
 eds v3.5.0//EN
X-WR-CALNAME:Dine Out the Level2 Way
X-WR-CALDESC:Level2
X-WR-TIMEZONE:UTC
BEGIN:VTIMEZONE
TZID:UTC
BEGIN:STANDARD
TZOFFSETFROM:+0000
TZOFFSETTO:+0000
DTSTART:20230110T060000
TZNAME:UTC
END:STANDARD
END:VTIMEZONE
BEGIN:VTIMEZONE
TZID:America/Chicago
BEGIN:DAYLIGHT
TZOFFSETFROM:-0600
TZOFFSETTO:-0500
DTSTART:20230312T080000
TZNAME:CDT
END:DAYLIGHT
END:VTIMEZONE
BEGIN:VEVENT
SUMMARY:Dine Out the Level2 Way
DESCRIPTION:Join Neha\, a Level2 Registered Dietitian and Board Certifie
 d Health and Wellness Coach\, as she explores how to manage your blood s
 ugars while enjoying dining out!\n\nRegister
URL;VALUE=URI:https://mylevel2.com/events/dine-out-the-level2-way-2/
UID:urn:uuid:75dd7289-9fbe-498c-ae4b-54e5d6a77e8c
STATUS:CONFIRMED
ORGANIZER:
DTSTAMP:20260419T162357Z
DTSTART;TZID=America/Chicago:20230711T180000
DTEND;TZID=America/Chicago:20230711T180000
END:VEVENT
END:VCALENDAR