BEGIN:VCALENDAR
METHOD:PUBLISH
VERSION:2.0
CALSCALE:GREGORIAN
PRODID:-//NONSGML Sandhills Development\, LLC//NONSGML Sugar Calendar Fe
 eds v3.5.0//EN
X-WR-CALNAME:8:30 a.m. CT - The Diabetes Plate Method
X-WR-CALDESC:Level2
X-WR-TIMEZONE:UTC
BEGIN:VTIMEZONE
TZID:UTC
BEGIN:STANDARD
TZOFFSETFROM:+0000
TZOFFSETTO:+0000
DTSTART:20250413T203000
TZNAME:UTC
END:STANDARD
END:VTIMEZONE
BEGIN:VTIMEZONE
TZID:America/Chicago
BEGIN:DAYLIGHT
TZOFFSETFROM:-0500
TZOFFSETTO:-0500
DTSTART:20250413T203000
TZNAME:CDT
END:DAYLIGHT
END:VTIMEZONE
BEGIN:VEVENT
SUMMARY:8:30 a.m. CT - The Diabetes Plate Method
DESCRIPTION:Join Kayla\, a Level2 Registered Dietitian and Board Certifi
 ed Health and Wellness Coach as she explores how to portion your plate t
 hrough the Diabetes Plate Method.\n\nRegister
URL;VALUE=URI:https://mylevel2.com/events/diabetes-plate-method-10-13/
UID:urn:uuid:ab4de5c8-397e-416b-8262-63b5fc761137
STATUS:CONFIRMED
ORGANIZER:
DTSTAMP:20260424T125215Z
DTSTART;TZID=America/Chicago:20251013T083000
DTEND;TZID=America/Chicago:20251013T090000
END:VEVENT
END:VCALENDAR